BEGIN:VCALENDAR
VERSION:2.0
PRODID:-//Plymouth Christian Academy - ECPv6.6.4.2//NONSGML v1.0//EN
CALSCALE:GREGORIAN
METHOD:PUBLISH
X-WR-CALNAME:Plymouth Christian Academy
X-ORIGINAL-URL:https://www.plymouthchristian.org
X-WR-CALDESC:Events for Plymouth Christian Academy
REFRESH-INTERVAL;VALUE=DURATION:PT1H
X-Robots-Tag:noindex
X-PUBLISHED-TTL:PT1H
BEGIN:VTIMEZONE
TZID:America/New_York
BEGIN:DAYLIGHT
TZOFFSETFROM:-0500
TZOFFSETTO:-0400
TZNAME:EDT
DTSTART:20250309T070000
END:DAYLIGHT
BEGIN:STANDARD
TZOFFSETFROM:-0400
TZOFFSETTO:-0500
TZNAME:EST
DTSTART:20251102T060000
END:STANDARD
BEGIN:DAYLIGHT
TZOFFSETFROM:-0500
TZOFFSETTO:-0400
TZNAME:EDT
DTSTART:20260308T070000
END:DAYLIGHT
BEGIN:STANDARD
TZOFFSETFROM:-0400
TZOFFSETTO:-0500
TZNAME:EST
DTSTART:20261101T060000
END:STANDARD
END:VTIMEZONE
BEGIN:VEVENT
DTSTART;VALUE=DATE:20260106
DTEND;VALUE=DATE:20260107
DTSTAMP:20260423T090804
CREATED:20250910T190629Z
LAST-MODIFIED:20250910T190629Z
UID:15693-1767657600-1767743999@www.plymouthchristian.org
SUMMARY:Classes Resume
DESCRIPTION:
URL:https://www.plymouthchristian.org/event/classes-resume-2/
CATEGORIES:Elementary,Freshmen,High School,Middle School
END:VEVENT
BEGIN:VEVENT
DTSTART;VALUE=DATE:20260105
DTEND;VALUE=DATE:20260106
DTSTAMP:20260423T090804
CREATED:20250910T190538Z
LAST-MODIFIED:20250910T190538Z
UID:15691-1767571200-1767657599@www.plymouthchristian.org
SUMMARY:Professional Development (No School)
DESCRIPTION:
URL:https://www.plymouthchristian.org/event/professional-development-no-school-6/
CATEGORIES:Elementary,Freshmen,High School,Middle School
END:VEVENT
BEGIN:VEVENT
DTSTART;VALUE=DATE:20251222
DTEND;VALUE=DATE:20260103
DTSTAMP:20260423T090804
CREATED:20250910T190438Z
LAST-MODIFIED:20250910T190438Z
UID:15689-1766361600-1767398399@www.plymouthchristian.org
SUMMARY:Christmas Break (No School)
DESCRIPTION:
URL:https://www.plymouthchristian.org/event/christmas-break-no-school-2/
CATEGORIES:Elementary,Freshmen,High School,Middle School,Preschool
END:VEVENT
BEGIN:VEVENT
DTSTART;VALUE=DATE:20251213
DTEND;VALUE=DATE:20251214
DTSTAMP:20260423T090804
CREATED:20250521T134314Z
LAST-MODIFIED:20250521T134314Z
UID:15411-1765584000-1765670399@www.plymouthchristian.org
SUMMARY:ACT Testing
DESCRIPTION:
URL:https://www.plymouthchristian.org/event/act-testing-3/
CATEGORIES:Testing
END:VEVENT
BEGIN:VEVENT
DTSTART;VALUE=DATE:20251211
DTEND;VALUE=DATE:20251212
DTSTAMP:20260423T090804
CREATED:20250910T190301Z
LAST-MODIFIED:20250910T190301Z
UID:15687-1765411200-1765497599@www.plymouthchristian.org
SUMMARY:Secondary Christmas Concert/Art Show
DESCRIPTION:
URL:https://www.plymouthchristian.org/event/secondary-christmas-concert-art-show/
CATEGORIES:Family Event,Fine Arts,Freshmen,High School,Middle School,Performing Arts
END:VEVENT
BEGIN:VEVENT
DTSTART;VALUE=DATE:20251205
DTEND;VALUE=DATE:20251206
DTSTAMP:20260423T090804
CREATED:20250910T183645Z
LAST-MODIFIED:20250910T183645Z
UID:15685-1764892800-1764979199@www.plymouthchristian.org
SUMMARY:Elementary Christmas Concert/Art Show
DESCRIPTION:
URL:https://www.plymouthchristian.org/event/elementary-christmas-concert-art-show/
CATEGORIES:Elementary,Family Event,Fine Arts,Performing Arts
END:VEVENT
BEGIN:VEVENT
DTSTART;VALUE=DATE:20251126
DTEND;VALUE=DATE:20251129
DTSTAMP:20260423T090804
CREATED:20250910T183504Z
LAST-MODIFIED:20250910T183504Z
UID:15683-1764115200-1764374399@www.plymouthchristian.org
SUMMARY:Thanksgiving Break (No School)
DESCRIPTION:
URL:https://www.plymouthchristian.org/event/thanksgiving-break-no-school-2/
CATEGORIES:Elementary,Freshmen,High School,Middle School
END:VEVENT
BEGIN:VEVENT
DTSTART;VALUE=DATE:20251125
DTEND;VALUE=DATE:20251126
DTSTAMP:20260423T090804
CREATED:20250910T183337Z
LAST-MODIFIED:20250910T183337Z
UID:15681-1764028800-1764115199@www.plymouthchristian.org
SUMMARY:All School Thanksgiving Chapel
DESCRIPTION:
URL:https://www.plymouthchristian.org/event/all-school-thanksgiving-chapel/
CATEGORIES:Elementary,Freshmen,High School,Middle School
END:VEVENT
BEGIN:VEVENT
DTSTART;VALUE=DATE:20251113
DTEND;VALUE=DATE:20251114
DTSTAMP:20260423T090804
CREATED:20250910T183212Z
LAST-MODIFIED:20250911T185328Z
UID:15679-1762992000-1763078399@www.plymouthchristian.org
SUMMARY:Speech Festival
DESCRIPTION:3rd – 5th Grades
URL:https://www.plymouthchristian.org/event/speech-festival/
CATEGORIES:Elementary
END:VEVENT
BEGIN:VEVENT
DTSTART;VALUE=DATE:20251111
DTEND;VALUE=DATE:20251112
DTSTAMP:20260423T090804
CREATED:20250814T184835Z
LAST-MODIFIED:20250814T184835Z
UID:15584-1762819200-1762905599@www.plymouthchristian.org
SUMMARY:Picture Retakes
DESCRIPTION:
URL:https://www.plymouthchristian.org/event/picture-retakes-2/
END:VEVENT
BEGIN:VEVENT
DTSTART;TZID=America/New_York:20251030T190000
DTEND;TZID=America/New_York:20251030T190000
DTSTAMP:20260423T090804
CREATED:20250910T175606Z
LAST-MODIFIED:20250910T175606Z
UID:15673-1761850800-1761850800@www.plymouthchristian.org
SUMMARY:Fine Arts Gala
DESCRIPTION:
URL:https://www.plymouthchristian.org/event/fine-arts-gala-3/
CATEGORIES:Fine Arts,Fundraiser,High School
END:VEVENT
BEGIN:VEVENT
DTSTART;VALUE=DATE:20251023
DTEND;VALUE=DATE:20251028
DTSTAMP:20260423T090804
CREATED:20250910T175418Z
LAST-MODIFIED:20250910T175418Z
UID:15671-1761177600-1761609599@www.plymouthchristian.org
SUMMARY:Fall Break (No School)
DESCRIPTION:
URL:https://www.plymouthchristian.org/event/fall-break-no-school/
CATEGORIES:Elementary,Freshmen,High School,Middle School
END:VEVENT
BEGIN:VEVENT
DTSTART;VALUE=DATE:20251023
DTEND;VALUE=DATE:20251025
DTSTAMP:20260423T090804
CREATED:20250910T153506Z
LAST-MODIFIED:20250910T175723Z
UID:15669-1761177600-1761350399@www.plymouthchristian.org
SUMMARY:Professional Development (No School)
DESCRIPTION:
URL:https://www.plymouthchristian.org/event/professional-development-no-school-5/
CATEGORIES:Elementary,High School,Middle School
END:VEVENT
BEGIN:VEVENT
DTSTART;VALUE=DATE:20251022
DTEND;VALUE=DATE:20251023
DTSTAMP:20260423T090804
CREATED:20250910T153317Z
LAST-MODIFIED:20250910T153317Z
UID:15667-1761091200-1761177599@www.plymouthchristian.org
SUMMARY:Half Day Young 5s - 12th grade
DESCRIPTION:End of the First Quarter
URL:https://www.plymouthchristian.org/event/half-day-young-5s-12th-grade/
CATEGORIES:Elementary,Freshmen,High School,Middle School
END:VEVENT
BEGIN:VEVENT
DTSTART;TZID=America/New_York:20251018T183000
DTEND;TZID=America/New_York:20251018T183000
DTSTAMP:20260423T090804
CREATED:20250910T153050Z
LAST-MODIFIED:20250910T153050Z
UID:15665-1760812200-1760812200@www.plymouthchristian.org
SUMMARY:High School Fall Dance
DESCRIPTION:
URL:https://www.plymouthchristian.org/event/high-school-fall-dance/
LOCATION:Three Cedars Farm\, 7897 Six Mile Road\, Northville\, MI\, 48168\, United States
CATEGORIES:Freshmen,High School
END:VEVENT
BEGIN:VEVENT
DTSTART;VALUE=DATE:20251018
DTEND;VALUE=DATE:20251019
DTSTAMP:20260423T090804
CREATED:20250521T134215Z
LAST-MODIFIED:20250521T134215Z
UID:15409-1760745600-1760831999@www.plymouthchristian.org
SUMMARY:ACT Testing
DESCRIPTION:
URL:https://www.plymouthchristian.org/event/act-testing-2/
CATEGORIES:Testing
END:VEVENT
BEGIN:VEVENT
DTSTART;VALUE=DATE:20251014
DTEND;VALUE=DATE:20251017
DTSTAMP:20260423T090804
CREATED:20240202T195107Z
LAST-MODIFIED:20250911T183034Z
UID:13630-1760400000-1760659199@www.plymouthchristian.org
SUMMARY:Fall Parent-Teacher Conferences 4:30-8 pm
DESCRIPTION:Tuesday\, October 14\, and Thursday\, October 16\, at 4:30 – 8:00 pm
URL:https://www.plymouthchristian.org/event/fall-conferences-5-8-pm/
CATEGORIES:Elementary,High School,Middle School
END:VEVENT
BEGIN:VEVENT
DTSTART;VALUE=DATE:20251008
DTEND;VALUE=DATE:20251009
DTSTAMP:20260423T090804
CREATED:20250910T152723Z
LAST-MODIFIED:20250910T152908Z
UID:15663-1759881600-1759967999@www.plymouthchristian.org
SUMMARY:PSAT Testing (9th & 11th grades)
DESCRIPTION:
URL:https://www.plymouthchristian.org/event/psat-testing-9th-11th-grades/
CATEGORIES:Freshmen,High School,Testing
END:VEVENT
BEGIN:VEVENT
DTSTART;TZID=America/New_York:20250929T180000
DTEND;TZID=America/New_York:20250929T200000
DTSTAMP:20260423T090804
CREATED:20250910T152545Z
LAST-MODIFIED:20250910T152545Z
UID:15661-1759168800-1759176000@www.plymouthchristian.org
SUMMARY:Secondary Open House
DESCRIPTION:
URL:https://www.plymouthchristian.org/event/secondary-open-house-3/
CATEGORIES:Family Event,Freshmen,High School,Middle School
END:VEVENT
BEGIN:VEVENT
DTSTART;VALUE=DATE:20250926
DTEND;VALUE=DATE:20250927
DTSTAMP:20260423T090804
CREATED:20250910T152139Z
LAST-MODIFIED:20250910T152139Z
UID:15658-1758844800-1758931199@www.plymouthchristian.org
SUMMARY:Under the Lights
DESCRIPTION:Boys JV and Varsity soccer games
URL:https://www.plymouthchristian.org/event/under-the-lights/
CATEGORIES:Athletics,Family Event,High School
END:VEVENT
BEGIN:VEVENT
DTSTART;VALUE=DATE:20250925
DTEND;VALUE=DATE:20250926
DTSTAMP:20260423T090804
CREATED:20250911T184731Z
LAST-MODIFIED:20250911T184731Z
UID:15744-1758758400-1758844799@www.plymouthchristian.org
SUMMARY:New Student Middle School Lunch
DESCRIPTION:
URL:https://www.plymouthchristian.org/event/new-student-middle-school-lunch/
CATEGORIES:Middle School
END:VEVENT
BEGIN:VEVENT
DTSTART;TZID=America/New_York:20250924T100000
DTEND;TZID=America/New_York:20250924T120000
DTSTAMP:20260423T090804
CREATED:20250910T151506Z
LAST-MODIFIED:20250923T171401Z
UID:15653-1758708000-1758715200@www.plymouthchristian.org
SUMMARY:Christian College Fair
DESCRIPTION:
URL:https://www.plymouthchristian.org/event/christian-college-fair-mpsc/
CATEGORIES:Freshmen,High School
END:VEVENT
BEGIN:VEVENT
DTSTART;VALUE=DATE:20250924
DTEND;VALUE=DATE:20250925
DTSTAMP:20260423T090804
CREATED:20250911T182747Z
LAST-MODIFIED:20250911T182849Z
UID:15735-1758672000-1758758399@www.plymouthchristian.org
SUMMARY:See You at the Pole (SYATP)
DESCRIPTION:
URL:https://www.plymouthchristian.org/event/see-you-at-the-pole-2/
CATEGORIES:High School
END:VEVENT
BEGIN:VEVENT
DTSTART;VALUE=DATE:20250924
DTEND;VALUE=DATE:20250925
DTSTAMP:20260423T090804
CREATED:20250910T150623Z
LAST-MODIFIED:20250910T150623Z
UID:15651-1758672000-1758758399@www.plymouthchristian.org
SUMMARY:Middle School Tree Runner Retreat
DESCRIPTION:
URL:https://www.plymouthchristian.org/event/middle-school-tree-runner-retreat/
CATEGORIES:Middle School
END:VEVENT
BEGIN:VEVENT
DTSTART;VALUE=DATE:20250919
DTEND;VALUE=DATE:20250920
DTSTAMP:20260423T090804
CREATED:20250910T150415Z
LAST-MODIFIED:20250910T150444Z
UID:15648-1758240000-1758326399@www.plymouthchristian.org
SUMMARY:Grandparents Day K-6th grade (1/2 day Young 5s - 8th grade)
DESCRIPTION:
URL:https://www.plymouthchristian.org/event/grandparents-day-k-6th-grades-1-2-day-young-5s-8th-grade/
CATEGORIES:Elementary,Middle School
END:VEVENT
BEGIN:VEVENT
DTSTART;VALUE=DATE:20250917
DTEND;VALUE=DATE:20250920
DTSTAMP:20260423T090804
CREATED:20250910T145745Z
LAST-MODIFIED:20250910T145745Z
UID:15646-1758067200-1758326399@www.plymouthchristian.org
SUMMARY:High School Spiritual Life Retreat
DESCRIPTION:Seniors leave Wednesday\, September 17.\nFreshmen\, sophomores\, and juniors leave Thursday\, September 18.
URL:https://www.plymouthchristian.org/event/high-school-spiritual-life-retreat/
CATEGORIES:Freshmen,High School
END:VEVENT
BEGIN:VEVENT
DTSTART;VALUE=DATE:20250917
DTEND;VALUE=DATE:20250919
DTSTAMP:20260423T090804
CREATED:20250910T145546Z
LAST-MODIFIED:20250910T145546Z
UID:15644-1758067200-1758239999@www.plymouthchristian.org
SUMMARY:Elementary Picture Days
DESCRIPTION:
URL:https://www.plymouthchristian.org/event/elementary-picture-days-3/
CATEGORIES:Elementary
END:VEVENT
BEGIN:VEVENT
DTSTART;VALUE=DATE:20250906
DTEND;VALUE=DATE:20250907
DTSTAMP:20260423T090804
CREATED:20250521T134054Z
LAST-MODIFIED:20250521T134054Z
UID:15407-1757116800-1757203199@www.plymouthchristian.org
SUMMARY:ACT Testing
DESCRIPTION:
URL:https://www.plymouthchristian.org/event/act-testing/
CATEGORIES:Testing
END:VEVENT
BEGIN:VEVENT
DTSTART;VALUE=DATE:20250828
DTEND;VALUE=DATE:20250829
DTSTAMP:20260423T090804
CREATED:20250425T144307Z
LAST-MODIFIED:20250425T144838Z
UID:15267-1756339200-1756425599@www.plymouthchristian.org
SUMMARY:Eagle Games
DESCRIPTION:
URL:https://www.plymouthchristian.org/event/eagle-games-2/
CATEGORIES:High School
END:VEVENT
BEGIN:VEVENT
DTSTART;VALUE=DATE:20250826
DTEND;VALUE=DATE:20250827
DTSTAMP:20260423T090804
CREATED:20250425T143749Z
LAST-MODIFIED:20250425T143749Z
UID:15265-1756166400-1756252799@www.plymouthchristian.org
SUMMARY:Young Fives Visitation Day
DESCRIPTION:
URL:https://www.plymouthchristian.org/event/young-fives-visitation-day/
END:VEVENT
END:VCALENDAR