BEGIN:VCALENDAR
VERSION:2.0
PRODID:-//Plymouth Christian Academy - ECPv6.6.4.2//NONSGML v1.0//EN
CALSCALE:GREGORIAN
METHOD:PUBLISH
X-WR-CALNAME:Plymouth Christian Academy
X-ORIGINAL-URL:https://www.plymouthchristian.org
X-WR-CALDESC:Events for Plymouth Christian Academy
REFRESH-INTERVAL;VALUE=DURATION:PT1H
X-Robots-Tag:noindex
X-PUBLISHED-TTL:PT1H
BEGIN:VTIMEZONE
TZID:America/New_York
BEGIN:DAYLIGHT
TZOFFSETFROM:-0500
TZOFFSETTO:-0400
TZNAME:EDT
DTSTART:20260308T070000
END:DAYLIGHT
BEGIN:STANDARD
TZOFFSETFROM:-0400
TZOFFSETTO:-0500
TZNAME:EST
DTSTART:20261101T060000
END:STANDARD
END:VTIMEZONE
BEGIN:VEVENT
DTSTART;VALUE=DATE:20260504
DTEND;VALUE=DATE:20260516
DTSTAMP:20260425T230859
CREATED:20251001T172732Z
LAST-MODIFIED:20251001T172732Z
UID:15775-1777852800-1778889599@www.plymouthchristian.org
SUMMARY:AP and Senior Exams
DESCRIPTION:
URL:https://www.plymouthchristian.org/event/ap-and-senior-exams/
CATEGORIES:High School,Testing
END:VEVENT
BEGIN:VEVENT
DTSTART;VALUE=DATE:20260507
DTEND;VALUE=DATE:20260508
DTSTAMP:20260425T230859
CREATED:20251001T172209Z
LAST-MODIFIED:20251001T172209Z
UID:15769-1778112000-1778198399@www.plymouthchristian.org
SUMMARY:Secondary Spring Concert / Art Show
DESCRIPTION:
URL:https://www.plymouthchristian.org/event/secondary-spring-concert-art-show/
CATEGORIES:Family Event,Fine Arts,Freshmen,High School,Middle School,Performing Arts
END:VEVENT
BEGIN:VEVENT
DTSTART;VALUE=DATE:20260512
DTEND;VALUE=DATE:20260513
DTSTAMP:20260425T230859
CREATED:20251001T172357Z
LAST-MODIFIED:20251001T172357Z
UID:15771-1778544000-1778630399@www.plymouthchristian.org
SUMMARY:Honors Night (7th-12th grade)
DESCRIPTION:
URL:https://www.plymouthchristian.org/event/honors-night-7th-12th-grade/
CATEGORIES:Family Event,Freshmen,High School,Middle School
END:VEVENT
BEGIN:VEVENT
DTSTART;VALUE=DATE:20260515
DTEND;VALUE=DATE:20260516
DTSTAMP:20260425T230859
CREATED:20251001T172531Z
LAST-MODIFIED:20251001T172531Z
UID:15773-1778803200-1778889599@www.plymouthchristian.org
SUMMARY:Picnic at the Pitch
DESCRIPTION:
URL:https://www.plymouthchristian.org/event/picnic-at-the-pitch-3/
CATEGORIES:Athletics,Family Event,Freshmen,High School
END:VEVENT
BEGIN:VEVENT
DTSTART;VALUE=DATE:20260515
DTEND;VALUE=DATE:20260516
DTSTAMP:20260425T230859
CREATED:20260415T125237Z
LAST-MODIFIED:20260415T125313Z
UID:16711-1778803200-1778889599@www.plymouthchristian.org
SUMMARY:Senior Legacy Walk
DESCRIPTION: 
URL:https://www.plymouthchristian.org/event/senior-legacy-walk-2026/
CATEGORIES:Elementary,Family Event,Freshmen,High School,Middle School
END:VEVENT
BEGIN:VEVENT
DTSTART;VALUE=DATE:20260525
DTEND;VALUE=DATE:20260526
DTSTAMP:20260425T230859
CREATED:20251001T172940Z
LAST-MODIFIED:20251001T172940Z
UID:15777-1779667200-1779753599@www.plymouthchristian.org
SUMMARY:Memorial Day (No School)
DESCRIPTION:
URL:https://www.plymouthchristian.org/event/memorial-day-no-school-2/
CATEGORIES:Elementary,Freshmen,High School,Middle School
END:VEVENT
BEGIN:VEVENT
DTSTART;VALUE=DATE:20260526
DTEND;VALUE=DATE:20260530
DTSTAMP:20260425T230859
CREATED:20251001T173125Z
LAST-MODIFIED:20251001T173125Z
UID:15779-1779753600-1780099199@www.plymouthchristian.org
SUMMARY:Secondary Exams (Half days for 7th-11th grades)
DESCRIPTION:
URL:https://www.plymouthchristian.org/event/secondary-exams-half-days-for-7th-11th-grades/
CATEGORIES:Freshmen,High School,Middle School,Testing
END:VEVENT
BEGIN:VEVENT
DTSTART;VALUE=DATE:20260529
DTEND;VALUE=DATE:20260530
DTSTAMP:20260425T230859
CREATED:20251001T173515Z
LAST-MODIFIED:20251001T173515Z
UID:15781-1780012800-1780099199@www.plymouthchristian.org
SUMMARY:Last Day (Half day K-12th grades)
DESCRIPTION:
URL:https://www.plymouthchristian.org/event/last-day-half-day-k-12th-grades/
CATEGORIES:Elementary,Freshmen,High School,Middle School
END:VEVENT
BEGIN:VEVENT
DTSTART;TZID=America/New_York:20260529T190000
DTEND;TZID=America/New_York:20260529T190000
DTSTAMP:20260425T230859
CREATED:20250911T191258Z
LAST-MODIFIED:20260223T183528Z
UID:15754-1780081200-1780081200@www.plymouthchristian.org
SUMMARY:Commencement
DESCRIPTION:
URL:https://www.plymouthchristian.org/event/commencement-2/
CATEGORIES:Family Event,High School
END:VEVENT
END:VCALENDAR