BEGIN:VCALENDAR
VERSION:2.0
PRODID:-//Plymouth Christian Academy - ECPv6.6.4.2//NONSGML v1.0//EN
CALSCALE:GREGORIAN
METHOD:PUBLISH
X-WR-CALNAME:Plymouth Christian Academy
X-ORIGINAL-URL:https://www.plymouthchristian.org
X-WR-CALDESC:Events for Plymouth Christian Academy
REFRESH-INTERVAL;VALUE=DURATION:PT1H
X-Robots-Tag:noindex
X-PUBLISHED-TTL:PT1H
BEGIN:VTIMEZONE
TZID:America/New_York
BEGIN:DAYLIGHT
TZOFFSETFROM:-0500
TZOFFSETTO:-0400
TZNAME:EDT
DTSTART:20260308T070000
END:DAYLIGHT
BEGIN:STANDARD
TZOFFSETFROM:-0400
TZOFFSETTO:-0500
TZNAME:EST
DTSTART:20261101T060000
END:STANDARD
END:VTIMEZONE
BEGIN:VEVENT
DTSTART;VALUE=DATE:20260306
DTEND;VALUE=DATE:20260307
DTSTAMP:20260420T114334
CREATED:20250911T175252Z
LAST-MODIFIED:20250911T175252Z
UID:15711-1772755200-1772841599@www.plymouthchristian.org
SUMMARY:Spring Parent-Teacher Conferences (Half Day Young 5s - 12th grade)
DESCRIPTION:
URL:https://www.plymouthchristian.org/event/spring-parent-teacher-conferences-half-day-young-5s-12th-grade/
CATEGORIES:Elementary,Family Event,Freshmen,High School,Middle School
END:VEVENT
END:VCALENDAR