BEGIN:VCALENDAR
VERSION:2.0
PRODID:-//Plymouth Christian Academy - ECPv6.6.4.2//NONSGML v1.0//EN
CALSCALE:GREGORIAN
METHOD:PUBLISH
X-WR-CALNAME:Plymouth Christian Academy
X-ORIGINAL-URL:https://www.plymouthchristian.org
X-WR-CALDESC:Events for Plymouth Christian Academy
REFRESH-INTERVAL;VALUE=DURATION:PT1H
X-Robots-Tag:noindex
X-PUBLISHED-TTL:PT1H
BEGIN:VTIMEZONE
TZID:America/New_York
BEGIN:DAYLIGHT
TZOFFSETFROM:-0500
TZOFFSETTO:-0400
TZNAME:EDT
DTSTART:20270314T070000
END:DAYLIGHT
BEGIN:STANDARD
TZOFFSETFROM:-0400
TZOFFSETTO:-0500
TZNAME:EST
DTSTART:20271107T060000
END:STANDARD
END:VTIMEZONE
BEGIN:VEVENT
DTSTART;VALUE=DATE:20270528
DTEND;VALUE=DATE:20270529
DTSTAMP:20260423T070947
CREATED:20260310T151321Z
LAST-MODIFIED:20260310T151321Z
UID:16671-1811462400-1811548799@www.plymouthchristian.org
SUMMARY:Kindergarten Graduation
DESCRIPTION:
URL:https://www.plymouthchristian.org/event/kindergarten-graduation-2027/
CATEGORIES:Elementary,Family Event
END:VEVENT
BEGIN:VEVENT
DTSTART;VALUE=DATE:20270531
DTEND;VALUE=DATE:20270601
DTSTAMP:20260423T070947
CREATED:20260310T151415Z
LAST-MODIFIED:20260310T151434Z
UID:16673-1811721600-1811807999@www.plymouthchristian.org
SUMMARY:Memorial Day (No School)
DESCRIPTION:
URL:https://www.plymouthchristian.org/event/memorial-day-no-school-2027/
CATEGORIES:Elementary,Freshmen,High School,Middle School,Preschool
END:VEVENT
BEGIN:VEVENT
DTSTART;VALUE=DATE:20270601
DTEND;VALUE=DATE:20270602
DTSTAMP:20260423T070947
CREATED:20260310T151518Z
LAST-MODIFIED:20260310T151548Z
UID:16676-1811808000-1811894399@www.plymouthchristian.org
SUMMARY:5th Grade Commissioning
DESCRIPTION:
URL:https://www.plymouthchristian.org/event/5th-grade-commissioning-2027/
CATEGORIES:Elementary,Family Event
END:VEVENT
BEGIN:VEVENT
DTSTART;VALUE=DATE:20270603
DTEND;VALUE=DATE:20270604
DTSTAMP:20260423T070947
CREATED:20260310T151730Z
LAST-MODIFIED:20260310T151730Z
UID:16680-1811980800-1812067199@www.plymouthchristian.org
SUMMARY:Last Day of School
DESCRIPTION:
URL:https://www.plymouthchristian.org/event/last-day-of-school/
CATEGORIES:Elementary,Freshmen,High School,Middle School
END:VEVENT
END:VCALENDAR