BEGIN:VCALENDAR
VERSION:2.0
PRODID:-//Plymouth Christian Academy - ECPv6.6.4.2//NONSGML v1.0//EN
CALSCALE:GREGORIAN
METHOD:PUBLISH
X-WR-CALNAME:Plymouth Christian Academy
X-ORIGINAL-URL:https://www.plymouthchristian.org
X-WR-CALDESC:Events for Plymouth Christian Academy
REFRESH-INTERVAL;VALUE=DURATION:PT1H
X-Robots-Tag:noindex
X-PUBLISHED-TTL:PT1H
BEGIN:VTIMEZONE
TZID:America/New_York
BEGIN:DAYLIGHT
TZOFFSETFROM:-0500
TZOFFSETTO:-0400
TZNAME:EDT
DTSTART:20260308T070000
END:DAYLIGHT
BEGIN:STANDARD
TZOFFSETFROM:-0400
TZOFFSETTO:-0500
TZNAME:EST
DTSTART:20261101T060000
END:STANDARD
BEGIN:DAYLIGHT
TZOFFSETFROM:-0500
TZOFFSETTO:-0400
TZNAME:EDT
DTSTART:20270314T070000
END:DAYLIGHT
BEGIN:STANDARD
TZOFFSETFROM:-0400
TZOFFSETTO:-0500
TZNAME:EST
DTSTART:20271107T060000
END:STANDARD
END:VTIMEZONE
BEGIN:VEVENT
DTSTART;VALUE=DATE:20260826
DTEND;VALUE=DATE:20260827
DTSTAMP:20260420T180905
CREATED:20260304T160711Z
LAST-MODIFIED:20260304T160711Z
UID:16531-1787702400-1787788799@www.plymouthchristian.org
SUMMARY:First Day of School
DESCRIPTION:Kindergarten & 1st Grade – Half Day
URL:https://www.plymouthchristian.org/event/first-day-of-school-2/
CATEGORIES:Elementary,Freshmen,High School,Middle School
END:VEVENT
BEGIN:VEVENT
DTSTART;VALUE=DATE:20260826
DTEND;VALUE=DATE:20260827
DTSTAMP:20260420T180905
CREATED:20260304T160801Z
LAST-MODIFIED:20260304T160801Z
UID:16533-1787702400-1787788799@www.plymouthchristian.org
SUMMARY:All School Chapel
DESCRIPTION:
URL:https://www.plymouthchristian.org/event/all-school-chapel/
CATEGORIES:Elementary,Freshmen,High School,Middle School
END:VEVENT
BEGIN:VEVENT
DTSTART;VALUE=DATE:20260826
DTEND;VALUE=DATE:20260829
DTSTAMP:20260420T180905
CREATED:20260304T161151Z
LAST-MODIFIED:20260304T161151Z
UID:16535-1787702400-1787961599@www.plymouthchristian.org
SUMMARY:Half Days for Kindergarten
DESCRIPTION:
URL:https://www.plymouthchristian.org/event/half-days-for-kindergarten/
CATEGORIES:Elementary
END:VEVENT
BEGIN:VEVENT
DTSTART;VALUE=DATE:20260828
DTEND;VALUE=DATE:20260829
DTSTAMP:20260420T180905
CREATED:20260304T161454Z
LAST-MODIFIED:20260304T161454Z
UID:16539-1787875200-1787961599@www.plymouthchristian.org
SUMMARY:New Family Ice Cream Social
DESCRIPTION:
URL:https://www.plymouthchristian.org/event/new-family-ice-cream-social/
CATEGORIES:Elementary,Family Event,Freshmen,High School,Middle School
END:VEVENT
BEGIN:VEVENT
DTSTART;VALUE=DATE:20260904
DTEND;VALUE=DATE:20260908
DTSTAMP:20260420T180905
CREATED:20260304T161655Z
LAST-MODIFIED:20260304T161655Z
UID:16543-1788480000-1788825599@www.plymouthchristian.org
SUMMARY:Labor Day Weekend (No School)
DESCRIPTION:
URL:https://www.plymouthchristian.org/event/labor-day-weekend-no-school/
CATEGORIES:Elementary,Freshmen,High School,Middle School,Preschool
END:VEVENT
BEGIN:VEVENT
DTSTART;VALUE=DATE:20260916
DTEND;VALUE=DATE:20260918
DTSTAMP:20260420T180905
CREATED:20260304T161745Z
LAST-MODIFIED:20260304T161745Z
UID:16545-1789516800-1789689599@www.plymouthchristian.org
SUMMARY:Elementary Picture Days
DESCRIPTION:
URL:https://www.plymouthchristian.org/event/elementary-picture-days-4/
CATEGORIES:Elementary
END:VEVENT
BEGIN:VEVENT
DTSTART;VALUE=DATE:20260925
DTEND;VALUE=DATE:20260926
DTSTAMP:20260420T180905
CREATED:20260304T162258Z
LAST-MODIFIED:20260304T162258Z
UID:16553-1790294400-1790380799@www.plymouthchristian.org
SUMMARY:Grandparents Day K-6th Grade
DESCRIPTION:
URL:https://www.plymouthchristian.org/event/grandparents-day-k-6th-grade/
CATEGORIES:Elementary,Family Event
END:VEVENT
BEGIN:VEVENT
DTSTART;TZID=America/New_York:20260925T080000
DTEND;TZID=America/New_York:20260925T080000
DTSTAMP:20260420T180905
CREATED:20260304T162412Z
LAST-MODIFIED:20260304T162412Z
UID:16555-1790323200-1790323200@www.plymouthchristian.org
SUMMARY:Half Day Young 5s - 8th Grade
DESCRIPTION:
URL:https://www.plymouthchristian.org/event/half-day-young-5s-8th-grade/
CATEGORIES:Elementary,Middle School,Preschool
END:VEVENT
BEGIN:VEVENT
DTSTART;VALUE=DATE:20261021
DTEND;VALUE=DATE:20261022
DTSTAMP:20260420T180905
CREATED:20260305T191508Z
LAST-MODIFIED:20260305T191508Z
UID:16570-1792540800-1792627199@www.plymouthchristian.org
SUMMARY:Fun Run K-5th grades
DESCRIPTION:
URL:https://www.plymouthchristian.org/event/fun-run-k-5th-grades/
CATEGORIES:Elementary,Family Event
END:VEVENT
BEGIN:VEVENT
DTSTART;VALUE=DATE:20261022
DTEND;VALUE=DATE:20261023
DTSTAMP:20260420T180905
CREATED:20260306T191538Z
LAST-MODIFIED:20260306T191538Z
UID:16584-1792627200-1792713599@www.plymouthchristian.org
SUMMARY:Professional Development (No School)
DESCRIPTION:
URL:https://www.plymouthchristian.org/event/professional-development-no-school-8/
CATEGORIES:Elementary,Freshmen,High School,Middle School
END:VEVENT
BEGIN:VEVENT
DTSTART;VALUE=DATE:20261023
DTEND;VALUE=DATE:20261027
DTSTAMP:20260420T180905
CREATED:20260305T201049Z
LAST-MODIFIED:20260305T201049Z
UID:16572-1792713600-1793059199@www.plymouthchristian.org
SUMMARY:Fall Break (No School)
DESCRIPTION:
URL:https://www.plymouthchristian.org/event/fall-break-no-school-2/
CATEGORIES:Elementary,Freshmen,High School,Middle School
END:VEVENT
BEGIN:VEVENT
DTSTART;VALUE=DATE:20261023
DTEND;VALUE=DATE:20261024
DTSTAMP:20260420T180905
CREATED:20260306T191712Z
LAST-MODIFIED:20260306T191712Z
UID:16586-1792713600-1792799999@www.plymouthchristian.org
SUMMARY:Elementary - End of 1st Quarter
DESCRIPTION:
URL:https://www.plymouthchristian.org/event/elementary-end-of-1st-quarter/
CATEGORIES:Elementary
END:VEVENT
BEGIN:VEVENT
DTSTART;VALUE=DATE:20261029
DTEND;VALUE=DATE:20261031
DTSTAMP:20260420T180905
CREATED:20260306T192058Z
LAST-MODIFIED:20260306T192058Z
UID:16588-1793232000-1793404799@www.plymouthchristian.org
SUMMARY:Elementary Fall Conferences
DESCRIPTION:Evening conferences Oct. 29 4-8 pm \nDaytime conferences Oct. 30
URL:https://www.plymouthchristian.org/event/elementary-fall-conferences/
CATEGORIES:Elementary
END:VEVENT
BEGIN:VEVENT
DTSTART;VALUE=DATE:20261030
DTEND;VALUE=DATE:20261031
DTSTAMP:20260420T180905
CREATED:20260306T192313Z
LAST-MODIFIED:20260306T192313Z
UID:16592-1793318400-1793404799@www.plymouthchristian.org
SUMMARY:1/2 Day Young 5s - 6th Grade
DESCRIPTION:
URL:https://www.plymouthchristian.org/event/1-2-day-young-5s-6th-grade/
CATEGORIES:Elementary
END:VEVENT
BEGIN:VEVENT
DTSTART;VALUE=DATE:20261124
DTEND;VALUE=DATE:20261125
DTSTAMP:20260420T180905
CREATED:20260309T163513Z
LAST-MODIFIED:20260309T163513Z
UID:16599-1795478400-1795564799@www.plymouthchristian.org
SUMMARY:All School Thanksgiving Chapel
DESCRIPTION:
URL:https://www.plymouthchristian.org/event/all-school-thanksgiving-chapel-2026/
CATEGORIES:Elementary,Freshmen,High School,Middle School
END:VEVENT
BEGIN:VEVENT
DTSTART;VALUE=DATE:20261125
DTEND;VALUE=DATE:20261128
DTSTAMP:20260420T180905
CREATED:20260305T201302Z
LAST-MODIFIED:20260305T201302Z
UID:16576-1795564800-1795823999@www.plymouthchristian.org
SUMMARY:Thanksgiving Break (No School)
DESCRIPTION:
URL:https://www.plymouthchristian.org/event/thanksgiving-break-no-school-3/
CATEGORIES:Elementary,Freshmen,High School,Middle School
END:VEVENT
BEGIN:VEVENT
DTSTART;VALUE=DATE:20261204
DTEND;VALUE=DATE:20261205
DTSTAMP:20260420T180905
CREATED:20260309T163634Z
LAST-MODIFIED:20260309T163634Z
UID:16601-1796342400-1796428799@www.plymouthchristian.org
SUMMARY:Elementary Christmas Concert/Art Show
DESCRIPTION:
URL:https://www.plymouthchristian.org/event/elementary-christmas-concert-art-show-2/
CATEGORIES:Elementary,Family Event,Fine Arts,Performing Arts
END:VEVENT
BEGIN:VEVENT
DTSTART;VALUE=DATE:20261221
DTEND;VALUE=DATE:20270105
DTSTAMP:20260420T180905
CREATED:20260305T201157Z
LAST-MODIFIED:20260305T201157Z
UID:16574-1797811200-1799107199@www.plymouthchristian.org
SUMMARY:Christmas Break (No School)
DESCRIPTION:
URL:https://www.plymouthchristian.org/event/christmas-break-no-school-3/
CATEGORIES:Elementary,Freshmen,High School,Middle School
END:VEVENT
BEGIN:VEVENT
DTSTART;VALUE=DATE:20270105
DTEND;VALUE=DATE:20270106
DTSTAMP:20260420T180905
CREATED:20260309T164020Z
LAST-MODIFIED:20260309T164020Z
UID:16608-1799107200-1799193599@www.plymouthchristian.org
SUMMARY:Classes Resume
DESCRIPTION:
URL:https://www.plymouthchristian.org/event/classes-resume-3/
CATEGORIES:Elementary,Freshmen,High School,Middle School
END:VEVENT
BEGIN:VEVENT
DTSTART;VALUE=DATE:20270115
DTEND;VALUE=DATE:20270116
DTSTAMP:20260420T180905
CREATED:20260309T164505Z
LAST-MODIFIED:20260309T164505Z
UID:16612-1799971200-1800057599@www.plymouthchristian.org
SUMMARY:End of the 2nd Quarter
DESCRIPTION:1/2 Day for Young 5s – 12th Grade
URL:https://www.plymouthchristian.org/event/end-of-the-2nd-quarter/
CATEGORIES:Elementary,Freshmen,High School,Middle School
END:VEVENT
BEGIN:VEVENT
DTSTART;VALUE=DATE:20270118
DTEND;VALUE=DATE:20270119
DTSTAMP:20260420T180905
CREATED:20260309T164721Z
LAST-MODIFIED:20260309T164721Z
UID:16614-1800230400-1800316799@www.plymouthchristian.org
SUMMARY:Martin Luther King Jr. Day (No School)
DESCRIPTION:
URL:https://www.plymouthchristian.org/event/martin-luther-king-jr-day-2026/
CATEGORIES:Elementary,Freshmen,High School,Middle School,Preschool
END:VEVENT
BEGIN:VEVENT
DTSTART;TZID=America/New_York:20270211T180000
DTEND;TZID=America/New_York:20270211T200000
DTSTAMP:20260420T180906
CREATED:20260309T164851Z
LAST-MODIFIED:20260309T172057Z
UID:16616-1802368800-1802376000@www.plymouthchristian.org
SUMMARY:Preschool & Elementary Open House
DESCRIPTION:
URL:https://www.plymouthchristian.org/event/preschool-elementary-open-house/
CATEGORIES:Elementary,Preschool
END:VEVENT
BEGIN:VEVENT
DTSTART;VALUE=DATE:20270215
DTEND;VALUE=DATE:20270220
DTSTAMP:20260420T180906
CREATED:20260305T201622Z
LAST-MODIFIED:20260305T201622Z
UID:16580-1802649600-1803081599@www.plymouthchristian.org
SUMMARY:Mid-Winter Break (No School)
DESCRIPTION:
URL:https://www.plymouthchristian.org/event/mid-winter-break-2027/
CATEGORIES:Elementary,Freshmen,High School,Middle School
END:VEVENT
BEGIN:VEVENT
DTSTART;VALUE=DATE:20270305
DTEND;VALUE=DATE:20270306
DTSTAMP:20260420T180906
CREATED:20260309T165245Z
LAST-MODIFIED:20260309T165245Z
UID:16620-1804204800-1804291199@www.plymouthchristian.org
SUMMARY:Spring Conferences
DESCRIPTION:1/2 Day Young 5’s – 12th Grade
URL:https://www.plymouthchristian.org/event/spring-conferences/
CATEGORIES:Elementary,Freshmen,High School,Middle School
END:VEVENT
BEGIN:VEVENT
DTSTART;VALUE=DATE:20270319
DTEND;VALUE=DATE:20270320
DTSTAMP:20260420T180906
CREATED:20260309T165907Z
LAST-MODIFIED:20260309T170140Z
UID:16624-1805414400-1805500799@www.plymouthchristian.org
SUMMARY:End of the 3rd Quarter
DESCRIPTION:
URL:https://www.plymouthchristian.org/event/end-of-the-3rd-quarter-2027/
CATEGORIES:Elementary,Freshmen,High School,Middle School
END:VEVENT
BEGIN:VEVENT
DTSTART;VALUE=DATE:20270326
DTEND;VALUE=DATE:20270327
DTSTAMP:20260420T180906
CREATED:20260309T170504Z
LAST-MODIFIED:20260309T170504Z
UID:16628-1806019200-1806105599@www.plymouthchristian.org
SUMMARY:Good Friday (No School)
DESCRIPTION:
URL:https://www.plymouthchristian.org/event/good-friday-no-school-2/
CATEGORIES:Elementary,Freshmen,High School,Middle School,Preschool
END:VEVENT
BEGIN:VEVENT
DTSTART;VALUE=DATE:20270329
DTEND;VALUE=DATE:20270403
DTSTAMP:20260420T180906
CREATED:20260305T201745Z
LAST-MODIFIED:20260305T201745Z
UID:16582-1806278400-1806710399@www.plymouthchristian.org
SUMMARY:Spring Break (No School)
DESCRIPTION:
URL:https://www.plymouthchristian.org/event/spring-break-no-school-2027/
CATEGORIES:Elementary,Freshmen,High School,Middle School
END:VEVENT
BEGIN:VEVENT
DTSTART;VALUE=DATE:20270412
DTEND;VALUE=DATE:20270417
DTSTAMP:20260420T180906
CREATED:20260309T170643Z
LAST-MODIFIED:20260309T170643Z
UID:16630-1807488000-1807919999@www.plymouthchristian.org
SUMMARY:S.H.I.N.E. Week
DESCRIPTION:
URL:https://www.plymouthchristian.org/event/s-h-i-n-e-week/
CATEGORIES:Elementary
END:VEVENT
BEGIN:VEVENT
DTSTART;VALUE=DATE:20270429
DTEND;VALUE=DATE:20270501
DTSTAMP:20260420T180906
CREATED:20260309T172636Z
LAST-MODIFIED:20260309T172636Z
UID:16641-1808956800-1809129599@www.plymouthchristian.org
SUMMARY:Professional Development (No School)
DESCRIPTION:
URL:https://www.plymouthchristian.org/event/professional-development-no-school-10/
CATEGORIES:Elementary,Freshmen,High School,Middle School
END:VEVENT
BEGIN:VEVENT
DTSTART;VALUE=DATE:20270521
DTEND;VALUE=DATE:20270522
DTSTAMP:20260420T180906
CREATED:20260309T181408Z
LAST-MODIFIED:20260309T181408Z
UID:16660-1810857600-1810943999@www.plymouthchristian.org
SUMMARY:Legacy Walk & Chapel
DESCRIPTION:
URL:https://www.plymouthchristian.org/event/legacy-walk-chapel/
CATEGORIES:Elementary,Freshmen,High School,Middle School
END:VEVENT
END:VCALENDAR